BEGIN:VCALENDAR
VERSION:2.0
PRODID:http://seelsorgebereich-frankenwald.de
BEGIN:VEVENT
UID:fdb44f15-364d-11f1-a8bf-0242ac11002b-1778395500000-de
DTSTAMP:20260412T090002Z
DTSTART:20260510T064500Z
DTEND:20260510T074500Z
SUMMARY;LANGUAGE=de:Bittamt der Wildensorger in St. Jakob
END:VEVENT
END:VCALENDAR
