BEGIN:VCALENDAR
VERSION:2.0
PRODID:http://seelsorgebereich-frankenwald.de
BEGIN:VEVENT
UID:e9b7064c-2a8c-11f1-a15b-0242ac11002b-1777134600000-de
DTSTAMP:20260328T100013Z
DTSTART:20260425T163000Z
DTEND:20260425T173000Z
SUMMARY;LANGUAGE=de:zweifellos-Gottesdienst für Zweifelnde, Suchende und Interessierte
END:VEVENT
END:VCALENDAR
