BEGIN:VCALENDAR
VERSION:2.0
PRODID:http://seelsorgebereich-frankenwald.de
BEGIN:VEVENT
UID:e09f17f8-3a3b-11f1-a8bf-0242ac11002b-1778826600000-de
DTSTAMP:20260417T090027Z
DTSTART:20260515T063000Z
DTEND:20260515T073000Z
SUMMARY;LANGUAGE=de:Hl. Messe mit Maiandacht u. sakr. Segen
END:VEVENT
END:VCALENDAR
