BEGIN:VCALENDAR
VERSION:2.0
PRODID:http://seelsorgebereich-frankenwald.de
BEGIN:VEVENT
UID:e080d306-3584-11f1-a8bf-0242ac11002b-1778333400000-de
DTSTAMP:20260411T090024Z
DTSTART:20260509T133000Z
DTEND:20260509T143000Z
SUMMARY;LANGUAGE=de:KnirpseKirche (JoKi), Beginn am Brunnen Stadtpark Hallstadt
END:VEVENT
END:VCALENDAR
