BEGIN:VCALENDAR
VERSION:2.0
PRODID:http://seelsorgebereich-frankenwald.de
BEGIN:VEVENT
UID:dda6b0d0-3584-11f1-a8bf-0242ac11002b-1778337900000-de
DTSTAMP:20260411T090019Z
DTSTART:20260509T144500Z
DTEND:20260509T153000Z
SUMMARY;LANGUAGE=de:Maiandacht, gestaltet vom CASINO
END:VEVENT
END:VCALENDAR
