BEGIN:VCALENDAR
VERSION:2.0
PRODID:http://seelsorgebereich-frankenwald.de
BEGIN:VEVENT
UID:dd74cb5a-3584-11f1-a8bf-0242ac11002b-1778340600000-de
DTSTAMP:20260411T090019Z
DTSTART:20260509T153000Z
DTEND:20260509T163000Z
SUMMARY;LANGUAGE=de:Hl. Messe - Familiengottesdienst
END:VEVENT
END:VCALENDAR
