BEGIN:VCALENDAR
VERSION:2.0
PRODID:http://seelsorgebereich-frankenwald.de
BEGIN:VEVENT
UID:dcac06ec-2c16-11f1-a15b-0242ac11002b-1777303800000-de
DTSTAMP:20260330T090012Z
DTSTART:20260427T153000Z
DTEND:20260427T163000Z
SUMMARY;LANGUAGE=de:Rosenkranz um geistliche Berufe
END:VEVENT
END:VCALENDAR
