BEGIN:VCALENDAR
VERSION:2.0
PRODID:http://seelsorgebereich-frankenwald.de
BEGIN:VEVENT
UID:db059fb2-3584-11f1-a8bf-0242ac11002b-1778315400000-de
DTSTAMP:20260411T090015Z
DTSTART:20260509T083000Z
DTEND:20260509T093000Z
SUMMARY;LANGUAGE=de:Hl. Messe zur Erstkommunion Sambach u. Pommersfelden
END:VEVENT
END:VCALENDAR
