BEGIN:VCALENDAR
VERSION:2.0
PRODID:http://seelsorgebereich-frankenwald.de
BEGIN:VEVENT
UID:d5194350-3a3b-11f1-a8bf-0242ac11002b-1778850000000-de
DTSTAMP:20260417T090007Z
DTSTART:20260515T130000Z
DTEND:20260515T134500Z
SUMMARY;LANGUAGE=de:Andacht z. Barmherzigkeit Gottes
END:VEVENT
END:VCALENDAR
