BEGIN:VCALENDAR
VERSION:2.0
PRODID:http://seelsorgebereich-frankenwald.de
BEGIN:VEVENT
UID:d33fd9ad-36ba-11f1-a8bf-0242ac11002b-1777134600000-de
DTSTAMP:20260412T215906Z
DTSTART:20260425T163000Z
DTEND:20260425T170000Z
SUMMARY;LANGUAGE=de:Markusandacht an der Kapelle in Schlegelshaid
DESCRIPTION;LANGUAGE=de:Anschließend Beisammensein im Dorfhaus
END:VEVENT
END:VCALENDAR
