BEGIN:VCALENDAR
VERSION:2.0
PRODID:http://seelsorgebereich-frankenwald.de
BEGIN:VEVENT
UID:d2d426fd-3584-11f1-a8bf-0242ac11002b-1778308200000-de
DTSTAMP:20260411T090001Z
DTSTART:20260509T063000Z
DTEND:20260509T073000Z
SUMMARY;LANGUAGE=de:Eucharistiezur Herz-Mariä-Sühne-Feier
END:VEVENT
END:VCALENDAR
