BEGIN:VCALENDAR
VERSION:2.0
PRODID:http://seelsorgebereich-frankenwald.de
BEGIN:VEVENT
UID:d2a23a08-36ba-11f1-a8bf-0242ac11002b-1778421600000-de
DTSTAMP:20260412T215905Z
DTSTART:20260510T140000Z
DTEND:20260510T163000Z
SUMMARY;LANGUAGE=de:Abholung der Wallfahrer, sakramentaler Segen
END:VEVENT
END:VCALENDAR
