BEGIN:VCALENDAR
VERSION:2.0
PRODID:http://seelsorgebereich-frankenwald.de
BEGIN:VEVENT
UID:d117a253-36ba-11f1-a8bf-0242ac11002b-1777028432515-de
DTSTAMP:20260412T215902Z
DTSTART:20260424T110032Z
SUMMARY;LANGUAGE=de:Tag der ewigen Anbetung in Marienroth
END:VEVENT
END:VCALENDAR
