BEGIN:VCALENDAR
VERSION:2.0
PRODID:http://seelsorgebereich-frankenwald.de
BEGIN:VEVENT
UID:d0b66f7a-36ba-11f1-a8bf-0242ac11002b-1777028432251-de
DTSTAMP:20260412T215901Z
DTSTART:20260424T110032Z
SUMMARY;LANGUAGE=de:Tag der ewigen Anbetung in Wickendorf
END:VEVENT
END:VCALENDAR
