BEGIN:VCALENDAR
VERSION:2.0
PRODID:http://seelsorgebereich-frankenwald.de
BEGIN:VEVENT
UID:cfc26fe1-3ef2-11f1-a8bf-0242ac11002b-1779381000000-de
DTSTAMP:20260423T090001Z
DTSTART:20260521T163000Z
DTEND:20260521T170000Z
SUMMARY;LANGUAGE=de:Eucharistische Anbetung, parallel Beichtgelegenheit
END:VEVENT
END:VCALENDAR
