BEGIN:VCALENDAR
VERSION:2.0
PRODID:http://seelsorgebereich-frankenwald.de
BEGIN:VEVENT
UID:cbce076b-36ba-11f1-a8bf-0242ac11002b-1777795200000-de
DTSTAMP:20260412T215853Z
DTSTART:20260503T080000Z
DTEND:20260503T090000Z
SUMMARY;LANGUAGE=de:Festgottesdienst mit Feier der Erstkommunion
DESCRIPTION;LANGUAGE=de:*für alle Lebenden und Verstorbenen unserer Pfarreien
END:VEVENT
END:VCALENDAR
