BEGIN:VCALENDAR
VERSION:2.0
PRODID:http://seelsorgebereich-frankenwald.de
BEGIN:VEVENT
UID:c800ab5e-36ba-11f1-a8bf-0242ac11002b-1778313600000-de
DTSTAMP:20260412T215847Z
DTSTART:20260509T080000Z
DTEND:20260509T084500Z
SUMMARY;LANGUAGE=de:Taufe der Kinder Johann Ludwig Horn und Otto Ströhla
END:VEVENT
END:VCALENDAR
