BEGIN:VCALENDAR
VERSION:2.0
PRODID:http://seelsorgebereich-frankenwald.de
BEGIN:VEVENT
UID:c4737b9b-29c3-11f1-a15b-0242ac11002b-1777032000000-de
DTSTAMP:20260327T100021Z
DTSTART:20260424T120000Z
DTEND:20260424T130000Z
SUMMARY;LANGUAGE=de:Segensandacht mit dem Kindergarten
DESCRIPTION;LANGUAGE=de:Einweihung des Josefgartens
END:VEVENT
END:VCALENDAR
