BEGIN:VCALENDAR
VERSION:2.0
PRODID:http://seelsorgebereich-frankenwald.de
BEGIN:VEVENT
UID:c3863543-29c3-11f1-a15b-0242ac11002b-1777035600000-de
DTSTAMP:20260327T100020Z
DTSTART:20260424T130000Z
DTEND:20260424T140000Z
SUMMARY;LANGUAGE=de:Rosenkranz zum barmherzigen Jesus
END:VEVENT
END:VCALENDAR
