BEGIN:VCALENDAR
VERSION:2.0
PRODID:http://seelsorgebereich-frankenwald.de
BEGIN:VEVENT
UID:c1f19d81-36ba-11f1-a8bf-0242ac11002b-1777129200000-de
DTSTAMP:20260412T215837Z
DTSTART:20260425T150000Z
DTEND:20260425T160000Z
SUMMARY;LANGUAGE=de:Hl. Messe mit feierlicher Jubelkommunion
END:VEVENT
END:VCALENDAR
