BEGIN:VCALENDAR
VERSION:2.0
PRODID:http://seelsorgebereich-frankenwald.de
BEGIN:VEVENT
UID:bed0fc43-36ba-11f1-a8bf-0242ac11002b-1778248800000-de
DTSTAMP:20260412T215831Z
DTSTART:20260508T140000Z
DTEND:20260508T150000Z
SUMMARY;LANGUAGE=de:Wort-Gottes-Feier im ASB Seniorenheim
END:VEVENT
END:VCALENDAR
