BEGIN:VCALENDAR
VERSION:2.0
PRODID:http://seelsorgebereich-frankenwald.de
BEGIN:VEVENT
UID:bdfe7f7b-29c3-11f1-a15b-0242ac11002b-1777035600000-de
DTSTAMP:20260327T100010Z
DTSTART:20260424T130000Z
DTEND:20260424T134500Z
SUMMARY;LANGUAGE=de:Andacht z. Barmherzigkeit Gottes
END:VEVENT
END:VCALENDAR
