BEGIN:VCALENDAR
VERSION:2.0
PRODID:http://seelsorgebereich-frankenwald.de
BEGIN:VEVENT
UID:bcd3cfa4-2b4d-11f1-a15b-0242ac11002b-1777190400000-de
DTSTAMP:20260329T090030Z
DTSTART:20260426T080000Z
DTEND:20260426T090000Z
SUMMARY;LANGUAGE=de:Hl. Messe mit Feier der Erstkommunion
DESCRIPTION;LANGUAGE=de:*Leb. u. Verst. aller Pfarreien des Seelsorgebereiches *für die Erstkommunionkinder u. deren leb. u. verst. Ang.
END:VEVENT
END:VCALENDAR
