BEGIN:VCALENDAR
VERSION:2.0
PRODID:http://seelsorgebereich-frankenwald.de
BEGIN:VEVENT
UID:bb6269eb-3972-11f1-a8bf-0242ac11002b-1778745600000-de
DTSTAMP:20260416T090035Z
DTSTART:20260514T080000Z
DTEND:20260514T090000Z
SUMMARY;LANGUAGE=de:Hl. Messe anschl. Bittprozession
END:VEVENT
END:VCALENDAR
