BEGIN:VCALENDAR
VERSION:2.0
PRODID:http://seelsorgebereich-frankenwald.de
BEGIN:VEVENT
UID:b865286f-36ba-11f1-a8bf-0242ac11002b-1777809600000-de
DTSTAMP:20260412T215821Z
DTSTART:20260503T120000Z
DTEND:20260503T130000Z
SUMMARY;LANGUAGE=de:Maiandacht gestaltet von der KAB
DESCRIPTION;LANGUAGE=de:anschließend Muttertagskaffee im Pfarrheim
END:VEVENT
END:VCALENDAR
