BEGIN:VCALENDAR
VERSION:2.0
PRODID:http://seelsorgebereich-frankenwald.de
BEGIN:VEVENT
UID:b7a8a06d-3004-11f1-a8bf-0242ac11002b-1777735800000-de
DTSTAMP:20260404T090024Z
DTSTART:20260502T153000Z
DTEND:20260502T163000Z
SUMMARY;LANGUAGE=de:Hl. Messe zu Ehren der Mutter Gottes
DESCRIPTION;LANGUAGE=de:anschl. Maiandacht mit Aussetzung des Allerheiligsten
END:VEVENT
END:VCALENDAR
