BEGIN:VCALENDAR
VERSION:2.0
PRODID:http://seelsorgebereich-frankenwald.de
BEGIN:VEVENT
UID:b5fec5dd-3e29-11f1-a8bf-0242ac11002b-1779294600000-de
DTSTAMP:20260422T090029Z
DTSTART:20260520T163000Z
DTEND:20260520T173000Z
SUMMARY;LANGUAGE=de:Maiandacht in der Marienkapelle
END:VEVENT
END:VCALENDAR
