BEGIN:VCALENDAR
VERSION:2.0
PRODID:http://seelsorgebereich-frankenwald.de
BEGIN:VEVENT
UID:b37c2335-36ba-11f1-a8bf-0242ac11002b-1777185000000-de
DTSTAMP:20260412T215812Z
DTSTART:20260426T063000Z
DTEND:20260426T073000Z
SUMMARY;LANGUAGE=de:Pfarrgottesdienst für alle Lebenden und + Pfarrangehörigen
END:VEVENT
END:VCALENDAR
