BEGIN:VCALENDAR
VERSION:2.0
PRODID:http://seelsorgebereich-frankenwald.de
BEGIN:VEVENT
UID:b1d06ee1-36ba-11f1-a8bf-0242ac11002b-1778250600000-de
DTSTAMP:20260412T215810Z
DTSTART:20260508T143000Z
DTEND:20260508T150000Z
SUMMARY;LANGUAGE=de:Ewige Anbetung; Eucharistische Andacht mit Aussetzung des Allerheiligsten
END:VEVENT
END:VCALENDAR
