BEGIN:VCALENDAR
VERSION:2.0
PRODID:http://seelsorgebereich-frankenwald.de
BEGIN:VEVENT
UID:b0b89623-36ba-11f1-a8bf-0242ac11002b-1777739400000-de
DTSTAMP:20260412T215808Z
DTSTART:20260502T163000Z
DTEND:20260502T173000Z
SUMMARY;LANGUAGE=de:Festgottesdienst; anschließend Prozession
END:VEVENT
END:VCALENDAR
