BEGIN:VCALENDAR
VERSION:2.0
PRODID:http://seelsorgebereich-frankenwald.de
BEGIN:VEVENT
UID:af96c252-3e29-11f1-a8bf-0242ac11002b-1777896000000-de
DTSTAMP:20260422T090018Z
DTSTART:20260504T120000Z
DTEND:20260504T130000Z
SUMMARY;LANGUAGE=de:Trauerfeier mit Urnenbeisetzung
DESCRIPTION;LANGUAGE=de:+ Harald Güttler
END:VEVENT
END:VCALENDAR
