BEGIN:VCALENDAR
VERSION:2.0
PRODID:http://seelsorgebereich-frankenwald.de
BEGIN:VEVENT
UID:ae788a61-34bb-11f1-a8bf-0242ac11002b-1778257800000-de
DTSTAMP:20260410T090011Z
DTSTART:20260508T163000Z
DTEND:20260508T173000Z
SUMMARY;LANGUAGE=de:Eucharistiefeier zum Fest Herz Jesu und Beichtgelegenheit
END:VEVENT
END:VCALENDAR
