BEGIN:VCALENDAR
VERSION:2.0
PRODID:http://seelsorgebereich-frankenwald.de
BEGIN:VEVENT
UID:adefefd5-3e29-11f1-a8bf-0242ac11002b-1779292800000-de
DTSTAMP:20260422T090015Z
DTSTART:20260520T160000Z
DTEND:20260520T170000Z
SUMMARY;LANGUAGE=de:Maiandacht an der Denzler Kapelle Oberharnsbach
END:VEVENT
END:VCALENDAR
