BEGIN:VCALENDAR
VERSION:2.0
PRODID:http://seelsorgebereich-frankenwald.de
BEGIN:VEVENT
UID:8f1125cd-38a9-11f1-a8bf-0242ac11002b-1778166000000-de
DTSTAMP:20260415T090032Z
DTSTART:20260507T150000Z
DTEND:20260507T160000Z
SUMMARY;LANGUAGE=de:Probe für die Erstkommunionkinder aus Kehlbach und Ludwigsstadt
END:VEVENT
END:VCALENDAR
