BEGIN:VCALENDAR
VERSION:2.0
PRODID:http://seelsorgebereich-frankenwald.de
BEGIN:VEVENT
UID:8e04c81d-2f3b-11f1-a8bf-0242ac11002b-1777622400000-de
DTSTAMP:20260403T090025Z
DTSTART:20260501T080000Z
DTEND:20260501T090000Z
SUMMARY;LANGUAGE=de:Marienfestgottesdienst zum Patrozinium
DESCRIPTION;LANGUAGE=de:anschl. Einkehr bei Andreas Ziegler mit Kaffee und Kuchen vom Kapellenverein
END:VEVENT
END:VCALENDAR
