BEGIN:VCALENDAR
VERSION:2.0
PRODID:http://seelsorgebereich-frankenwald.de
BEGIN:VEVENT
UID:8d24c856-2f3b-11f1-a8bf-0242ac11002b-1777651200000-de
DTSTAMP:20260403T090024Z
DTSTART:20260501T160000Z
DTEND:20260501T170000Z
SUMMARY;LANGUAGE=de:feierliche Maiandacht für den gesamten Seelsorgebereich
END:VEVENT
END:VCALENDAR
