BEGIN:VCALENDAR
VERSION:2.0
PRODID:http://seelsorgebereich-frankenwald.de
BEGIN:VEVENT
UID:8a5b96a5-2f3b-11f1-a8bf-0242ac11002b-1777618800000-de
DTSTAMP:20260403T090019Z
DTSTART:20260501T070000Z
DTEND:20260501T083000Z
SUMMARY;LANGUAGE=de:Festgottesdienst zum Markustag
END:VEVENT
END:VCALENDAR
