BEGIN:VCALENDAR
VERSION:2.0
PRODID:http://seelsorgebereich-frankenwald.de
BEGIN:VEVENT
UID:8a46d61f-2f3b-11f1-a8bf-0242ac11002b-1777613400000-de
DTSTAMP:20260403T090019Z
DTSTART:20260501T053000Z
DTEND:20260501T060000Z
SUMMARY;LANGUAGE=de:Aussendung der Markusprozession
END:VEVENT
END:VCALENDAR
