BEGIN:VCALENDAR
VERSION:2.0
PRODID:http://seelsorgebereich-frankenwald.de
BEGIN:VEVENT
UID:84e7fb27-38a9-11f1-a8bf-0242ac11002b-1778688000000-de
DTSTAMP:20260415T090015Z
DTSTART:20260513T160000Z
DTEND:20260513T163000Z
SUMMARY;LANGUAGE=de:Auszug zum Bittgang nach Uetzing
END:VEVENT
END:VCALENDAR
