BEGIN:VCALENDAR
VERSION:2.0
PRODID:http://seelsorgebereich-frankenwald.de
BEGIN:VEVENT
UID:7eb7734b-33f2-11f1-a8bf-0242ac11002b-1778173200000-de
DTSTAMP:20260409T090002Z
DTSTART:20260507T170000Z
DTEND:20260507T180000Z
SUMMARY;LANGUAGE=de:Festgottesdienst zum Jahresgedächtnis der Domkirchweih
END:VEVENT
END:VCALENDAR
