BEGIN:VCALENDAR
VERSION:2.0
PRODID:http://seelsorgebereich-frankenwald.de
BEGIN:VEVENT
UID:7e480fa1-33f2-11f1-a8bf-0242ac11002b-1777276800000-de
DTSTAMP:20260409T090001Z
DTSTART:20260427T080000Z
DTEND:20260427T090000Z
SUMMARY;LANGUAGE=de:Dankgottesdienst für die Erstkommunionkinder
END:VEVENT
END:VCALENDAR
