BEGIN:VCALENDAR
VERSION:2.0
PRODID:http://seelsorgebereich-frankenwald.de
BEGIN:VEVENT
UID:69483d8a-37e0-11f1-a8bf-0242ac11002b-1778605200000-de
DTSTAMP:20260414T090040Z
DTSTART:20260512T170000Z
DTEND:20260512T180000Z
SUMMARY;LANGUAGE=de:Bittamt für die Wallfahrer aus Pressig
END:VEVENT
END:VCALENDAR
