BEGIN:VCALENDAR
VERSION:2.0
PRODID:http://seelsorgebereich-frankenwald.de
BEGIN:VEVENT
UID:64ce2786-37e0-11f1-a8bf-0242ac11002b-1778598000000-de
DTSTAMP:20260414T090032Z
DTSTART:20260512T150000Z
DTEND:20260512T170000Z
SUMMARY;LANGUAGE=de:Bittgang nach Breitengüßbach
END:VEVENT
END:VCALENDAR
