BEGIN:VCALENDAR
VERSION:2.0
PRODID:http://seelsorgebereich-frankenwald.de
BEGIN:VEVENT
UID:61223634-37e0-11f1-a8bf-0242ac11002b-1778601600000-de
DTSTAMP:20260414T090026Z
DTSTART:20260512T160000Z
DTEND:20260512T163000Z
SUMMARY;LANGUAGE=de:Auszug zum Bittgang nach Frauendorf
END:VEVENT
END:VCALENDAR
