BEGIN:VCALENDAR
VERSION:2.0
PRODID:http://seelsorgebereich-frankenwald.de
BEGIN:VEVENT
UID:5f5f9e82-37e0-11f1-a8bf-0242ac11002b-1778602800000-de
DTSTAMP:20260414T090023Z
DTSTART:20260512T162000Z
DTEND:20260512T170000Z
SUMMARY;LANGUAGE=de:Auszug zum Bittgang nach Frauendorf
DESCRIPTION;LANGUAGE=de:(Bushaltestelle)
END:VEVENT
END:VCALENDAR
