BEGIN:VCALENDAR
VERSION:2.0
PRODID:http://seelsorgebereich-frankenwald.de
BEGIN:VEVENT
UID:5a6107c7-3329-11f1-a8bf-0242ac11002b-1778073300000-de
DTSTAMP:20260408T090012Z
DTSTART:20260506T131500Z
DTEND:20260506T141500Z
SUMMARY;LANGUAGE=de:Wortgottesfeier im Seniorenzentrum Frensdorf
END:VEVENT
END:VCALENDAR
