BEGIN:VCALENDAR
VERSION:2.0
PRODID:http://seelsorgebereich-frankenwald.de
BEGIN:VEVENT
UID:56c0c844-2e72-11f1-a8bf-0242ac11002b-1777572000000-de
DTSTAMP:20260402T090004Z
DTSTART:20260430T180000Z
DTEND:20260430T190000Z
SUMMARY;LANGUAGE=de:„Nachteulentreff“ / Friedensgebet
END:VEVENT
END:VCALENDAR
