BEGIN:VCALENDAR
VERSION:2.0
PRODID:http://seelsorgebereich-frankenwald.de
BEGIN:VEVENT
UID:50ea81c9-3c97-11f1-a8bf-0242ac11002b-1779085800000-de
DTSTAMP:20260420T090002Z
DTSTART:20260518T063000Z
DTEND:20260518T071500Z
SUMMARY;LANGUAGE=de:Eucharistiefeier, anschl. Rosenkranz
END:VEVENT
END:VCALENDAR
