BEGIN:VCALENDAR
VERSION:2.0
PRODID:http://seelsorgebereich-frankenwald.de
BEGIN:VEVENT
UID:4ec03dab-38ba-11f1-a8bf-0242ac11002b-1778326200000-de
DTSTAMP:20260415T110026Z
DTSTART:20260509T113000Z
DTEND:20260509T123000Z
SUMMARY;LANGUAGE=de:Trauung von Nadja Wolf und Niko Schmidt
END:VEVENT
END:VCALENDAR
