BEGIN:VCALENDAR
VERSION:2.0
PRODID:http://seelsorgebereich-frankenwald.de
BEGIN:VEVENT
UID:3a9fd1a3-3bce-11f1-a8bf-0242ac11002b-1779001200000-de
DTSTAMP:20260419T090035Z
DTSTART:20260517T070000Z
DTEND:20260517T080000Z
SUMMARY;LANGUAGE=de:Hl. Messe; anschließend Segnung des neuen Feuerwehrfahrzeugs
DESCRIPTION;LANGUAGE=de:*für alle Lebenden und Verstorbenen unserer Pfarreien
END:VEVENT
END:VCALENDAR
